BEGIN:VCALENDAR
VERSION:2.0
PRODID:-//WP EVENT Manager Ical//NONSGML Events//EN
CALSCALE:GREGORIAN
BEGIN:VTIMEZONE
TZID:Asia/Kolkata
BEGIN:STANDARD
DTSTART:19700101T000000
TZOFFSETFROM:+0530
TZOFFSETTO:+0530
END:STANDARD
END:VTIMEZONE
BEGIN:VEVENT
UID:69e9e25a93efa@psicologoefrainmc.com
DTSTAMP:20260423T091154Z
DTSTART;TZID=Asia/Kolkata:20250827T190000
DTEND;TZID=Asia/Kolkata:19700101T000000
LOCATION:Online
SUMMARY:Impacto Psicológico del Metaverso en la Educación
DESCRIPTION:Lo que aprenderás:Analizaremos cómo la experiencia educativa dentro del metaverso puede influir en los procesos cognitivos, emocionales y relacionales de estudiantes y docentes. Aprenderás a identificar tanto las posibilidades como los riesgos psicológicos asociados a la inmersión virtual, incluyendo temas como la atención, la identidad digital, la motivación y la percepción del entorno. Se presentarán criterios para un uso pedagógico y emocionalmente saludable de entornos inmersivos, con enfoque reflexivo, ético y educativo.¿Para quién es este curso?Dirigido a docentes de todos los niveles, directivos escolares, psicólogos educativos, diseñadores instruccionales y profesionales interesados en innovación educativa con sentido humano.Requisitos del curso:No se requiere experiencia previa con tecnologías inmersivas. Es un espacio abierto a todo público docente con interés en comprender el vínculo entre educación, tecnología y salud emocional.
END:VEVENT
END:VCALENDAR