BEGIN:VCALENDAR
VERSION:2.0
PRODID:-//WP EVENT Manager Ical//NONSGML Events//EN
CALSCALE:GREGORIAN
BEGIN:VTIMEZONE
TZID:Asia/Kolkata
BEGIN:STANDARD
DTSTART:19700101T000000
TZOFFSETFROM:+0530
TZOFFSETTO:+0530
END:STANDARD
END:VTIMEZONE
BEGIN:VEVENT
UID:69e74ab9e4903@psicologoefrainmc.com
DTSTAMP:20260421T100025Z
DTSTART;TZID=Asia/Kolkata:20250813T190000
DTEND;TZID=Asia/Kolkata:19700101T000000
LOCATION:Online
SUMMARY:El miedo a la muerte como consciencia de la libertad
DESCRIPTION:Lo que aprenderás:Reflexionaremos sobre el miedo a la muerte no como una amenaza, sino como una oportunidad para tomar conciencia de nuestra libertad y responsabilidad ante la vida. Explorarás cómo este temor, cuando es comprendido y acompañado, puede convertirse en motor de transformación personal, conexión con el presente y sentido existencial. Se compartirán claves desde la psicología existencial y herramientas de acompañamiento emocional que permiten resignificar la muerte como parte natural de la experiencia humana.¿Para quién es este curso?:Dirigido a psicólogos, terapeutas, docentes, estudiantes de humanidades y cualquier persona interesada en el crecimiento personal, la filosofía de vida y el acompañamiento emocional profundo.Requisitos del curso:No se requiere experiencia previa. Es un espacio abierto a todo público con interés en el desarrollo emocional y existencial desde una mirada respetuosa y reflexiva.
END:VEVENT
END:VCALENDAR