BEGIN:VCALENDAR
VERSION:2.0
PRODID:-//WP EVENT Manager Ical//NONSGML Events//EN
CALSCALE:GREGORIAN
BEGIN:VTIMEZONE
TZID:Asia/Kolkata
BEGIN:STANDARD
DTSTART:19700101T000000
TZOFFSETFROM:+0530
TZOFFSETTO:+0530
END:STANDARD
END:VTIMEZONE
BEGIN:VEVENT
UID:69e4d743ee1fc@psicologoefrainmc.com
DTSTAMP:20260419T132315Z
DTSTART;TZID=Asia/Kolkata:20250730T190000
DTEND;TZID=Asia/Kolkata:19700101T000000
LOCATION:Online
SUMMARY:Bienestar digital en las vacaciones: Desconexión Consciente
DESCRIPTION:Lo que aprenderás:Este espacio te brindará herramientas prácticas para construir una relación más saludable con la tecnología durante el periodo vacacional. Reflexionaremos sobre el impacto del uso excesivo de pantallas en el descanso, la atención plena y la salud emocional, y exploraremos estrategias para practicar una desconexión digital consciente que favorezca el equilibrio, la presencia y el bienestar personal y familiar. Aprenderás a establecer límites sanos con lo digital sin culpas, desde una mirada respetuosa y realista.¿Para quién es este curso?:Dirigido a docentes, madres y padres de familia, profesionales de la salud mental, estudiantes y cualquier persona interesada en mejorar su bienestar emocional durante las vacaciones.Requisitos del curso:No se necesita experiencia previa ni conocimientos técnicos. Es un espacio abierto a todo público con interés en cuidar su salud digital y emocional.
END:VEVENT
END:VCALENDAR